BEGIN:VCALENDAR
VERSION:2.0
PRODID:-//hacksw/handcal//NONSGML v1.0//EN
BEGIN:VEVENT
SUMMARY:COMPETITION VW & AUDI
UID:a473855a-1f4e-43a1-8202-5d80cd83f76b
DTSTART:20261010T220000Z
DTEND:20261011T220000Z
LOCATION:Localisation   
CATEGORIES:Sportif
STATUS:
URL;VALUE=URI:https://www.as-golfrodez.fr/evenements/2026/10/11/competition-vw-audi-2411438
END:VEVENT
END:VCALENDAR
