BEGIN:VCALENDAR
VERSION:2.0
PRODID:-//hacksw/handcal//NONSGML v1.0//EN
BEGIN:VEVENT
SUMMARY:COMPETITION INTERMARCHE
UID:33262d18-dd35-41d6-a93a-02094f62ef39
DTSTART:20260926T220000Z
DTEND:20260927T220000Z
LOCATION:Localisation   
CATEGORIES:Sportif
STATUS:
DESCRIPTION:<p>DATE A CONFIRMER</p>
URL;VALUE=URI:https://www.as-golfrodez.fr/evenements/2026/09/27/competition-intermarche-2411437
END:VEVENT
END:VCALENDAR
