BEGIN:VCALENDAR
VERSION:2.0
PRODID:-//hacksw/handcal//NONSGML v1.0//EN
BEGIN:VEVENT
SUMMARY:Competition de classement
UID:ab3daa59-281a-4969-ab6d-f0fbee4ad7e4
DTSTART:20260916T220000Z
DTEND:20260917T220000Z
LOCATION:Localisation   
CATEGORIES:Sportif
STATUS:
DESCRIPTION:<h1 style="text-align:center;">Competition de classement
 ouverte a tous quel que soit l'age ou
 l'index.</h1>
 
 <h2><strong>Licence et questionnaire de sante, a jour,
  obligatoires.</strong></h2>
 
 <h2>Depart par parties de 3
 joueurs.</h2>
 
 <h2 style="text-align:center;"><u><span
 style="font-size:26px;"><strong>Inscription jusqu'au vendredi 18h
 !</strong></span></u></h2>
 
 <h2> </h2>
URL;VALUE=URI:https://www.as-golfrodez.fr/evenements/2026/09/17/competition-de-classement-2411388
END:VEVENT
END:VCALENDAR
