BEGIN:VCALENDAR
VERSION:2.0
PRODID:-//hacksw/handcal//NONSGML v1.0//EN
BEGIN:VEVENT
SUMMARY:GRAND TROPHEE DE L'AS
UID:de41e93b-adce-4e9e-b0e8-c1b08400d082
DTSTART:20260911T220000Z
DTEND:20260913T220000Z
LOCATION:Localisation   
CATEGORIES:Sportif
STATUS:
URL;VALUE=URI:https://www.as-golfrodez.fr/evenements/2026/09/12/grand-trophee-de-las-2411434
END:VEVENT
END:VCALENDAR
