BEGIN:VCALENDAR
VERSION:2.0
PRODID:-//hacksw/handcal//NONSGML v1.0//EN
BEGIN:VEVENT
SUMMARY:COMPETITION DIGITAL
UID:5a47dbff-7e0c-428f-b149-0abd689f1c02
DTSTART:20260829T220000Z
DTEND:20260830T220000Z
LOCATION:Localisation   
CATEGORIES:Sportif
STATUS:
URL;VALUE=URI:https://www.as-golfrodez.fr/evenements/2026/08/30/competition-digital-2411433
END:VEVENT
END:VCALENDAR
