BEGIN:VCALENDAR
VERSION:2.0
PRODID:-//hacksw/handcal//NONSGML v1.0//EN
BEGIN:VEVENT
SUMMARY:Competition de classement
UID:72d09a0f-196e-4c66-a4c9-bd7bf6ee02f2
DTSTART:20260728T220000Z
DTEND:20260729T220000Z
LOCATION:Localisation   
CATEGORIES:Sportif
STATUS:
DESCRIPTION:<h1 style="text-align:center;">Competition de classement
 ouverte a tous quel que soit l'age ou
 l'index.</h1>
 
 <h2><strong>Licence et questionnaire de sante, a jour,
  obligatoires.</strong></h2>
 
 <h2>Depart par parties de 3
 joueurs.</h2>
 
 <h2 style="text-align:center;"><u><span
 style="font-size:26px;"><strong>Inscription jusqu'au vendredi 18h
 !</strong></span></u></h2>
 
 <h2> </h2>
URL;VALUE=URI:https://www.as-golfrodez.fr/evenements/2026/07/29/competition-de-classement-2411376
END:VEVENT
END:VCALENDAR
