BEGIN:VCALENDAR
VERSION:2.0
PRODID:-//hacksw/handcal//NONSGML v1.0//EN
BEGIN:VEVENT
SUMMARY:FETE DU CLUB
UID:2a31c306-f319-49b5-8379-7dd664211bff
DTSTART:20260704T220000Z
DTEND:20260705T220000Z
LOCATION:Localisation   
CATEGORIES:Sportif
STATUS:
DESCRIPTION:<p>EN PREPARATION</p>
URL;VALUE=URI:https://www.as-golfrodez.fr/evenements/2026/07/05/fete-du-club-2411432
END:VEVENT
END:VCALENDAR
