BEGIN:VCALENDAR
VERSION:2.0
PRODID:-//hacksw/handcal//NONSGML v1.0//EN
BEGIN:VEVENT
SUMMARY:AUMILI a MONTAL
UID:9fdef3ec-a98c-4c3b-a3c1-614f65fd3920
DTSTART:20260621T220000Z
DTEND:20260623T220000Z
LOCATION:Localisation   
CATEGORIES:Sportif
STATUS:
URL;VALUE=URI:https://www.as-golfrodez.fr/evenements/2026/06/22/aumili-a-montal-2411345
END:VEVENT
END:VCALENDAR
