BEGIN:VCALENDAR
VERSION:2.0
PRODID:-//hacksw/handcal//NONSGML v1.0//EN
BEGIN:VEVENT
SUMMARY:OPEN DES ABONNES
UID:b3bb4afb-8cd9-46d3-98cb-8af2ac3b1103
DTSTART:20260613T220000Z
DTEND:20260614T220000Z
LOCATION:Localisation   
CATEGORIES:Sportif
STATUS:
URL;VALUE=URI:https://www.as-golfrodez.fr/evenements/2026/06/14/open-des-abonnes-2411427
END:VEVENT
END:VCALENDAR
