BEGIN:VCALENDAR
VERSION:2.0
PRODID:-//hacksw/handcal//NONSGML v1.0//EN
BEGIN:VEVENT
SUMMARY:AUMILI a RODEZ
UID:d9ac11fb-52da-4738-b553-5a607287f5a0
DTSTART:20260608T220000Z
DTEND:20260609T220000Z
LOCATION:Localisation   
CATEGORIES:Sportif
STATUS:
URL;VALUE=URI:https://www.as-golfrodez.fr/evenements/2026/06/09/aumili-a-rodez-2411348
END:VEVENT
END:VCALENDAR
