BEGIN:VCALENDAR
VERSION:2.0
PRODID:-//hacksw/handcal//NONSGML v1.0//EN
BEGIN:VEVENT
SUMMARY:TROPHEE DS AUTOMOBILES
UID:0b5353f6-f844-46a7-94d6-95cfde5c905d
DTSTART:20260606T220000Z
DTEND:20260607T220000Z
LOCATION:Localisation   
CATEGORIES:Sportif
STATUS:
DESCRIPTION:<p>EN PREPARATION</p>
URL;VALUE=URI:https://www.as-golfrodez.fr/evenements/2026/06/07/trophee-ds-automobiles-2411426
END:VEVENT
END:VCALENDAR
